BEGIN:VCALENDAR
VERSION:2.0
PRODID:-//Fahrschule Dovermann - ECPv6.15.20//NONSGML v1.0//EN
CALSCALE:GREGORIAN
METHOD:PUBLISH
X-WR-CALNAME:Fahrschule Dovermann
X-ORIGINAL-URL:https://www.fahrschule-dovermann.de
X-WR-CALDESC:Veranstaltungen für Fahrschule Dovermann
REFRESH-INTERVAL;VALUE=DURATION:PT1H
X-Robots-Tag:noindex
X-PUBLISHED-TTL:PT1H
BEGIN:VTIMEZONE
TZID:Europe/Berlin
BEGIN:DAYLIGHT
TZOFFSETFROM:+0100
TZOFFSETTO:+0200
TZNAME:CEST
DTSTART:20240331T010000
END:DAYLIGHT
BEGIN:STANDARD
TZOFFSETFROM:+0200
TZOFFSETTO:+0100
TZNAME:CET
DTSTART:20241027T010000
END:STANDARD
BEGIN:DAYLIGHT
TZOFFSETFROM:+0100
TZOFFSETTO:+0200
TZNAME:CEST
DTSTART:20250330T010000
END:DAYLIGHT
BEGIN:STANDARD
TZOFFSETFROM:+0200
TZOFFSETTO:+0100
TZNAME:CET
DTSTART:20251026T010000
END:STANDARD
BEGIN:DAYLIGHT
TZOFFSETFROM:+0100
TZOFFSETTO:+0200
TZNAME:CEST
DTSTART:20260329T010000
END:DAYLIGHT
BEGIN:STANDARD
TZOFFSETFROM:+0200
TZOFFSETTO:+0100
TZNAME:CET
DTSTART:20261025T010000
END:STANDARD
END:VTIMEZONE
BEGIN:VEVENT
DTSTART;TZID=Europe/Berlin:20251104T183000
DTEND;TZID=Europe/Berlin:20251104T200000
DTSTAMP:20260420T103333
CREATED:20241126T160807Z
LAST-MODIFIED:20251024T121210Z
UID:1687-1762281000-1762286400@www.fahrschule-dovermann.de
SUMMARY:Grundstoff (Thema 1)
DESCRIPTION:Grundstoff Thema 1\nPontwall\n18:30 – 20:00 Uhr
URL:https://www.fahrschule-dovermann.de/theorieplan/grundstoff-thema-1-4/
LOCATION:Filiale Aachen Pontwall\, Pontwall 2\, Aachen\, NRW\, 52062\, Deutschland
CATEGORIES:Grundstoff,Grundstoff (Thema 1) - Persönliche Voraussetzung
END:VEVENT
BEGIN:VEVENT
DTSTART;TZID=Europe/Berlin:20251105T183000
DTEND;TZID=Europe/Berlin:20251105T200000
DTSTAMP:20260420T103333
CREATED:20250122T161104Z
LAST-MODIFIED:20251024T121932Z
UID:1903-1762367400-1762372800@www.fahrschule-dovermann.de
SUMMARY:Grundstoff (Thema 8)
DESCRIPTION:Grundstoff Thema 8\nTheaterstraße\n18:30 – 20:00 Uhr
URL:https://www.fahrschule-dovermann.de/theorieplan/grundstoff-thema-9-8/
LOCATION:Filiale Theaterstraße\, Theaterstraße 77\, Aachen\, NRW\, 52062\, Germany
CATEGORIES:Grundstoff,Grundstoff (Thema 8) - Geschwindigkeit, Abstand und umweltschonende Fahrweise
END:VEVENT
BEGIN:VEVENT
DTSTART;TZID=Europe/Berlin:20251118T200000
DTEND;TZID=Europe/Berlin:20251118T213000
DTSTAMP:20260420T103333
CREATED:20241211T171303Z
LAST-MODIFIED:20251024T132545Z
UID:1805-1763496000-1763501400@www.fahrschule-dovermann.de
SUMMARY:Zusatzstoff Klasse B (Thema 1)
DESCRIPTION:Zusatzstoff Klasse B Thema 1\nPontwall\n20:00 – 21:30 Uhr
URL:https://www.fahrschule-dovermann.de/theorieplan/zusatzstoff-klasse-b-thema-1-10/
LOCATION:Filiale Aachen Pontwall\, Pontwall 2\, Aachen\, NRW\, 52062\, Deutschland
CATEGORIES:Theorieunterricht PKW,Zusatzstoff B,Zusatzstoff B (Thema 1) - Technische Bedingungen
END:VEVENT
BEGIN:VEVENT
DTSTART;TZID=Europe/Berlin:20251126T183000
DTEND;TZID=Europe/Berlin:20251126T200000
DTSTAMP:20260420T103333
CREATED:20241028T155909Z
LAST-MODIFIED:20251024T133754Z
UID:1608-1764181800-1764187200@www.fahrschule-dovermann.de
SUMMARY:Grundstoff (Thema 2)
DESCRIPTION:Grundstoff Thema 2\nTheaterstraße\n18:30 – 20:00 Uhr
URL:https://www.fahrschule-dovermann.de/theorieplan/grundstoff-thema-2-3/
LOCATION:Filiale Theaterstraße\, Theaterstraße 77\, Aachen\, NRW\, 52062\, Germany
CATEGORIES:Grundstoff,Grundstoff (Thema 2) - Risikofaktor Mensch
END:VEVENT
BEGIN:VEVENT
DTSTART;TZID=Europe/Berlin:20251127T183000
DTEND;TZID=Europe/Berlin:20251127T200000
DTSTAMP:20260420T103333
CREATED:20240924T121307Z
LAST-MODIFIED:20251024T133811Z
UID:1551-1764268200-1764273600@www.fahrschule-dovermann.de
SUMMARY:Grundstoff (Thema 8)
DESCRIPTION:Grundstoff Thema 8\nPontwall\n18:30 – 20:00 Uhr
URL:https://www.fahrschule-dovermann.de/theorieplan/grundstoff-thema-8-3/
LOCATION:Filiale Aachen Pontwall\, Pontwall 2\, Aachen\, NRW\, 52062\, Deutschland
CATEGORIES:Grundstoff,Grundstoff (Thema 8) - Geschwindigkeit, Abstand und umweltschonende Fahrweise
END:VEVENT
END:VCALENDAR