BEGIN:VCALENDAR
VERSION:2.0
PRODID:-//Fahrschule Dovermann - ECPv6.15.20//NONSGML v1.0//EN
CALSCALE:GREGORIAN
METHOD:PUBLISH
X-WR-CALNAME:Fahrschule Dovermann
X-ORIGINAL-URL:https://www.fahrschule-dovermann.de
X-WR-CALDESC:Veranstaltungen für Fahrschule Dovermann
REFRESH-INTERVAL;VALUE=DURATION:PT1H
X-Robots-Tag:noindex
X-PUBLISHED-TTL:PT1H
BEGIN:VTIMEZONE
TZID:Europe/Berlin
BEGIN:DAYLIGHT
TZOFFSETFROM:+0100
TZOFFSETTO:+0200
TZNAME:CEST
DTSTART:20230326T010000
END:DAYLIGHT
BEGIN:STANDARD
TZOFFSETFROM:+0200
TZOFFSETTO:+0100
TZNAME:CET
DTSTART:20231029T010000
END:STANDARD
BEGIN:DAYLIGHT
TZOFFSETFROM:+0100
TZOFFSETTO:+0200
TZNAME:CEST
DTSTART:20240331T010000
END:DAYLIGHT
BEGIN:STANDARD
TZOFFSETFROM:+0200
TZOFFSETTO:+0100
TZNAME:CET
DTSTART:20241027T010000
END:STANDARD
BEGIN:DAYLIGHT
TZOFFSETFROM:+0100
TZOFFSETTO:+0200
TZNAME:CEST
DTSTART:20250330T010000
END:DAYLIGHT
BEGIN:STANDARD
TZOFFSETFROM:+0200
TZOFFSETTO:+0100
TZNAME:CET
DTSTART:20251026T010000
END:STANDARD
END:VTIMEZONE
BEGIN:VEVENT
DTSTART;TZID=Europe/Berlin:20241205T183000
DTEND;TZID=Europe/Berlin:20241205T200000
DTSTAMP:20260422T192356
CREATED:20241126T161815Z
LAST-MODIFIED:20241126T161815Z
UID:1707-1733423400-1733428800@www.fahrschule-dovermann.de
SUMMARY:Grundstoff (Thema 8)
DESCRIPTION:Grundstoff Thema 8\nPontwall\n18:30 – 20:00 Uhr
URL:https://www.fahrschule-dovermann.de/theorieplan/grundstoff-thema-8-5/
LOCATION:Filiale Aachen Pontwall\, Pontwall 2\, Aachen\, NRW\, 52062\, Deutschland
CATEGORIES:Grundstoff,Grundstoff (Thema 8) - Geschwindigkeit, Abstand und umweltschonende Fahrweise
END:VEVENT
BEGIN:VEVENT
DTSTART;TZID=Europe/Berlin:20241205T183000
DTEND;TZID=Europe/Berlin:20241205T200000
DTSTAMP:20260422T192356
CREATED:20241126T161932Z
LAST-MODIFIED:20241126T161932Z
UID:1709-1733423400-1733428800@www.fahrschule-dovermann.de
SUMMARY:Grundstoff (Thema 10)
DESCRIPTION:Grundstoff Thema 10\nWurmbenden\n18:30 – 20:00 Uhr
URL:https://www.fahrschule-dovermann.de/theorieplan/grundstoff-thema-10-5/
LOCATION:Filiale Wurmbenden\, Wurmbenden 13-15\, Aachen\, NRW\, 52070\, Deutschland
CATEGORIES:Grundstoff,Grundstoff (Thema 10)
END:VEVENT
BEGIN:VEVENT
DTSTART;TZID=Europe/Berlin:20241209T183000
DTEND;TZID=Europe/Berlin:20241209T200000
DTSTAMP:20260422T192356
CREATED:20241126T162030Z
LAST-MODIFIED:20241126T162030Z
UID:1711-1733769000-1733774400@www.fahrschule-dovermann.de
SUMMARY:Grundstoff (Thema 4)
DESCRIPTION:Grundstoff Thema 4\nTheaterstraße\n18:30 – 20:00 Uhr
URL:https://www.fahrschule-dovermann.de/theorieplan/grundstoff-thema-4-5/
LOCATION:Filiale Theaterstraße\, Theaterstraße 77\, Aachen\, NRW\, 52062\, Germany
CATEGORIES:Grundstoff,Grundstoff (Thema 4) - Straßenverkehrssystem und seine Nutzung
END:VEVENT
BEGIN:VEVENT
DTSTART;TZID=Europe/Berlin:20241211T183000
DTEND;TZID=Europe/Berlin:20241211T200000
DTSTAMP:20260422T192356
CREATED:20241126T163823Z
LAST-MODIFIED:20241126T163823Z
UID:1729-1733941800-1733947200@www.fahrschule-dovermann.de
SUMMARY:Grundstoff (Thema 4)
DESCRIPTION:Grundstoff Thema 4\nKohlscheid\n18:30 – 20:00 Uhr
URL:https://www.fahrschule-dovermann.de/theorieplan/grundstoff-thema-4-6/
LOCATION:Filiale Kohlscheid\, Weberstraße 4\, Herzogenrath\, NRW\, 52134\, Deutschland
CATEGORIES:Grundstoff,Grundstoff (Thema 4) - Straßenverkehrssystem und seine Nutzung
END:VEVENT
BEGIN:VEVENT
DTSTART;TZID=Europe/Berlin:20241216T183000
DTEND;TZID=Europe/Berlin:20241216T200000
DTSTAMP:20260422T192356
CREATED:20241126T164601Z
LAST-MODIFIED:20241126T164601Z
UID:1739-1734373800-1734379200@www.fahrschule-dovermann.de
SUMMARY:Grundstoff (Thema 5)
DESCRIPTION:Grundstoff Thema 5\nKohlscheid\n18:30 – 20:00 Uhr
URL:https://www.fahrschule-dovermann.de/theorieplan/grundstoff-thema-5-7/
LOCATION:Filiale Kohlscheid\, Weberstraße 4\, Herzogenrath\, NRW\, 52134\, Deutschland
CATEGORIES:Grundstoff,Grundstoff (Thema 5) - Vorfahrt und Verkehrsregelung
END:VEVENT
END:VCALENDAR