BEGIN:VCALENDAR
VERSION:2.0
PRODID:-//Fahrschule Dovermann - ECPv6.15.20//NONSGML v1.0//EN
CALSCALE:GREGORIAN
METHOD:PUBLISH
X-ORIGINAL-URL:https://www.fahrschule-dovermann.de
X-WR-CALDESC:Veranstaltungen für Fahrschule Dovermann
REFRESH-INTERVAL;VALUE=DURATION:PT1H
X-Robots-Tag:noindex
X-PUBLISHED-TTL:PT1H
BEGIN:VTIMEZONE
TZID:Europe/Berlin
BEGIN:DAYLIGHT
TZOFFSETFROM:+0100
TZOFFSETTO:+0200
TZNAME:CEST
DTSTART:20230326T010000
END:DAYLIGHT
BEGIN:STANDARD
TZOFFSETFROM:+0200
TZOFFSETTO:+0100
TZNAME:CET
DTSTART:20231029T010000
END:STANDARD
BEGIN:DAYLIGHT
TZOFFSETFROM:+0100
TZOFFSETTO:+0200
TZNAME:CEST
DTSTART:20240331T010000
END:DAYLIGHT
BEGIN:STANDARD
TZOFFSETFROM:+0200
TZOFFSETTO:+0100
TZNAME:CET
DTSTART:20241027T010000
END:STANDARD
BEGIN:DAYLIGHT
TZOFFSETFROM:+0100
TZOFFSETTO:+0200
TZNAME:CEST
DTSTART:20250330T010000
END:DAYLIGHT
BEGIN:STANDARD
TZOFFSETFROM:+0200
TZOFFSETTO:+0100
TZNAME:CET
DTSTART:20251026T010000
END:STANDARD
END:VTIMEZONE
BEGIN:VEVENT
DTSTART;TZID=Europe/Berlin:20241008T203000
DTEND;TZID=Europe/Berlin:20241008T220000
DTSTAMP:20260423T053129
CREATED:20240924T110533Z
LAST-MODIFIED:20240924T110533Z
UID:1497-1728419400-1728424800@www.fahrschule-dovermann.de
SUMMARY:Grundstoff (Thema 3)
DESCRIPTION:Grundstoff Thema 3\nAachen Pontwall\n18:30 – 20:00 Uhr
URL:https://www.fahrschule-dovermann.de/theorieplan/grundstoff-thema-3-2-3/
LOCATION:Filiale Aachen Pontwall\, Pontwall 2\, Aachen\, NRW\, 52062\, Deutschland
CATEGORIES:Grundstoff,Grundstoff (Thema 3) - Rechtliche Rahmenbedingungen
END:VEVENT
BEGIN:VEVENT
DTSTART;TZID=Europe/Berlin:20241010T203000
DTEND;TZID=Europe/Berlin:20241010T220000
DTSTAMP:20260423T053129
CREATED:20240924T112124Z
LAST-MODIFIED:20240924T112124Z
UID:1507-1728592200-1728597600@www.fahrschule-dovermann.de
SUMMARY:Grundstoff (Thema 6)
DESCRIPTION:Grundstoff Thema 6\nAachen Wurmbenden\n18:30 – 20:00 Uhr
URL:https://www.fahrschule-dovermann.de/theorieplan/grundstoff-thema-6-2/
LOCATION:Filiale Wurmbenden\, Wurmbenden 13-15\, Aachen\, NRW\, 52070\, Deutschland
CATEGORIES:Grundstoff,Grundstoff (Thema 6) - Verkehrszeichen und Verkehrseinrichtungen sowie Bahnübergänge
END:VEVENT
BEGIN:VEVENT
DTSTART;TZID=Europe/Berlin:20241015T203000
DTEND;TZID=Europe/Berlin:20241015T220000
DTSTAMP:20260423T053129
CREATED:20240924T112753Z
LAST-MODIFIED:20240924T112753Z
UID:1517-1729024200-1729029600@www.fahrschule-dovermann.de
SUMMARY:Grundstoff (Thema 7)
DESCRIPTION:Grundstoff Thema 7 \nWurmbenden\n18:30 – 20:00 Uhr
URL:https://www.fahrschule-dovermann.de/theorieplan/grundstoff-thema-7/
LOCATION:Filiale Wurmbenden\, Wurmbenden 13-15\, Aachen\, NRW\, 52070\, Deutschland
CATEGORIES:Grundstoff,Grundstoff (Thema 7) - Andere Teilnehmer im Straßenverkehr
END:VEVENT
BEGIN:VEVENT
DTSTART;TZID=Europe/Berlin:20241016T203000
DTEND;TZID=Europe/Berlin:20241016T220000
DTSTAMP:20260423T053129
CREATED:20240924T115832Z
LAST-MODIFIED:20240924T115832Z
UID:1525-1729110600-1729116000@www.fahrschule-dovermann.de
SUMMARY:Grundstoff (Thema 12)
DESCRIPTION:Grundstoff Thema 12\nKohlscheid\n18:30 – 20:00 Uhr
URL:https://www.fahrschule-dovermann.de/theorieplan/grundstoff-thema-12-3/
LOCATION:Filiale Kohlscheid\, Weberstraße 4\, Herzogenrath\, NRW\, 52134\, Deutschland
CATEGORIES:Grundstoff,Grundstoff (Thema 12)
END:VEVENT
BEGIN:VEVENT
DTSTART;TZID=Europe/Berlin:20241017T203000
DTEND;TZID=Europe/Berlin:20241017T220000
DTSTAMP:20260423T053129
CREATED:20240924T120355Z
LAST-MODIFIED:20240924T120355Z
UID:1531-1729197000-1729202400@www.fahrschule-dovermann.de
SUMMARY:Grundstoff (Thema 6)
DESCRIPTION:Grundstoff Thema 6\nAachen Pontwall\n18:30 – 20:00 Uhr
URL:https://www.fahrschule-dovermann.de/theorieplan/grundstoff-thema-6-4/
LOCATION:Filiale Aachen Pontwall\, Pontwall 2\, Aachen\, NRW\, 52062\, Deutschland
CATEGORIES:Grundstoff,Grundstoff (Thema 6) - Verkehrszeichen und Verkehrseinrichtungen sowie Bahnübergänge
END:VEVENT
BEGIN:VEVENT
DTSTART;TZID=Europe/Berlin:20241022T183000
DTEND;TZID=Europe/Berlin:20241022T200000
DTSTAMP:20260423T053129
CREATED:20240924T120949Z
LAST-MODIFIED:20241022T084900Z
UID:1541-1729621800-1729627200@www.fahrschule-dovermann.de
SUMMARY:Grundstoff (Thema 7)
DESCRIPTION:Grundstoff Thema 7 \nAachen Pontwall\n18:30 – 20:00 Uhr
URL:https://www.fahrschule-dovermann.de/theorieplan/grundstoff-thema-7-3/
LOCATION:Filiale Aachen Pontwall\, Pontwall 2\, Aachen\, NRW\, 52062\, Deutschland
CATEGORIES:Grundstoff,Grundstoff (Thema 7) - Andere Teilnehmer im Straßenverkehr
END:VEVENT
BEGIN:VEVENT
DTSTART;TZID=Europe/Berlin:20241030T183000
DTEND;TZID=Europe/Berlin:20241030T200000
DTSTAMP:20260423T053129
CREATED:20240924T121734Z
LAST-MODIFIED:20241022T085156Z
UID:1561-1730313000-1730318400@www.fahrschule-dovermann.de
SUMMARY:Grundstoff (Thema 4)
DESCRIPTION:Grundstoff Thema 4\nKohlscheid\n18:30 – 20:00 Uhr
URL:https://www.fahrschule-dovermann.de/theorieplan/grundstoff-thema-4-3/
LOCATION:Filiale Kohlscheid\, Weberstraße 4\, Herzogenrath\, NRW\, 52134\, Deutschland
CATEGORIES:Grundstoff,Grundstoff (Thema 4) - Straßenverkehrssystem und seine Nutzung
END:VEVENT
BEGIN:VEVENT
DTSTART;TZID=Europe/Berlin:20241031T183000
DTEND;TZID=Europe/Berlin:20241031T200000
DTSTAMP:20260423T053129
CREATED:20240924T121852Z
LAST-MODIFIED:20241022T085217Z
UID:1565-1730399400-1730404800@www.fahrschule-dovermann.de
SUMMARY:Grundstoff (Thema 10)
DESCRIPTION:Grundstoff Thema 10\nAachen Pontwall\n18:30 – 20:00 Uhr
URL:https://www.fahrschule-dovermann.de/theorieplan/grundstoff-thema-10-4/
LOCATION:Filiale Aachen Pontwall\, Pontwall 2\, Aachen\, NRW\, 52062\, Deutschland
CATEGORIES:Grundstoff,Grundstoff (Thema 10)
END:VEVENT
END:VCALENDAR