BEGIN:VCALENDAR
VERSION:2.0
PRODID:-//Fahrschule Dovermann - ECPv6.15.20//NONSGML v1.0//EN
CALSCALE:GREGORIAN
METHOD:PUBLISH
X-WR-CALNAME:Fahrschule Dovermann
X-ORIGINAL-URL:https://www.fahrschule-dovermann.de
X-WR-CALDESC:Veranstaltungen für Fahrschule Dovermann
REFRESH-INTERVAL;VALUE=DURATION:PT1H
X-Robots-Tag:noindex
X-PUBLISHED-TTL:PT1H
BEGIN:VTIMEZONE
TZID:Europe/Berlin
BEGIN:DAYLIGHT
TZOFFSETFROM:+0100
TZOFFSETTO:+0200
TZNAME:CEST
DTSTART:20230326T010000
END:DAYLIGHT
BEGIN:STANDARD
TZOFFSETFROM:+0200
TZOFFSETTO:+0100
TZNAME:CET
DTSTART:20231029T010000
END:STANDARD
BEGIN:DAYLIGHT
TZOFFSETFROM:+0100
TZOFFSETTO:+0200
TZNAME:CEST
DTSTART:20240331T010000
END:DAYLIGHT
BEGIN:STANDARD
TZOFFSETFROM:+0200
TZOFFSETTO:+0100
TZNAME:CET
DTSTART:20241027T010000
END:STANDARD
BEGIN:DAYLIGHT
TZOFFSETFROM:+0100
TZOFFSETTO:+0200
TZNAME:CEST
DTSTART:20250330T010000
END:DAYLIGHT
BEGIN:STANDARD
TZOFFSETFROM:+0200
TZOFFSETTO:+0100
TZNAME:CET
DTSTART:20251026T010000
END:STANDARD
END:VTIMEZONE
BEGIN:VEVENT
DTSTART;TZID=Europe/Berlin:20240924T203000
DTEND;TZID=Europe/Berlin:20240924T220000
DTSTAMP:20260423T094802
CREATED:20240819T130014Z
LAST-MODIFIED:20240819T130014Z
UID:1443-1727209800-1727215200@www.fahrschule-dovermann.de
SUMMARY:Grundstoff (Thema 12)
DESCRIPTION:Grundstoff Thema 12\nPontwall\n18:30 – 20:00 Uhr
URL:https://www.fahrschule-dovermann.de/theorieplan/grundstoff-thema-12/
LOCATION:Filiale Aachen Pontwall\, Pontwall 2\, Aachen\, NRW\, 52062\, Deutschland
CATEGORIES:Grundstoff,Grundstoff (Thema 12)
END:VEVENT
BEGIN:VEVENT
DTSTART;TZID=Europe/Berlin:20240925T203000
DTEND;TZID=Europe/Berlin:20240925T220000
DTSTAMP:20260423T094802
CREATED:20240819T130218Z
LAST-MODIFIED:20240819T130218Z
UID:1447-1727296200-1727301600@www.fahrschule-dovermann.de
SUMMARY:Grundstoff (Thema 6)
DESCRIPTION:Grundstoff Thema 6\nKohlscheid\n18:30 – 20:00 Uhr
URL:https://www.fahrschule-dovermann.de/theorieplan/grundstoff-thema-6-3/
LOCATION:Filiale Kohlscheid\, Weberstraße 4\, Herzogenrath\, NRW\, 52134\, Deutschland
CATEGORIES:Grundstoff,Grundstoff (Thema 6) - Verkehrszeichen und Verkehrseinrichtungen sowie Bahnübergänge
END:VEVENT
BEGIN:VEVENT
DTSTART;TZID=Europe/Berlin:20240930T203000
DTEND;TZID=Europe/Berlin:20240930T220000
DTSTAMP:20260423T094802
CREATED:20240819T130649Z
LAST-MODIFIED:20240819T130649Z
UID:1455-1727728200-1727733600@www.fahrschule-dovermann.de
SUMMARY:Grundstoff (Thema 7)
DESCRIPTION:Grundstoff Thema 7 \nKohlscheid\n18:30 – 20:00 Uhr
URL:https://www.fahrschule-dovermann.de/theorieplan/grundstoff-thema-7-2-2/
LOCATION:Filiale Kohlscheid\, Weberstraße 4\, Herzogenrath\, NRW\, 52134\, Deutschland
CATEGORIES:Grundstoff,Grundstoff (Thema 7) - Andere Teilnehmer im Straßenverkehr
END:VEVENT
END:VCALENDAR