BEGIN:VCALENDAR
VERSION:2.0
PRODID:-//Fahrschule Dovermann - ECPv6.15.20//NONSGML v1.0//EN
CALSCALE:GREGORIAN
METHOD:PUBLISH
X-WR-CALNAME:Fahrschule Dovermann
X-ORIGINAL-URL:https://www.fahrschule-dovermann.de
X-WR-CALDESC:Veranstaltungen für Fahrschule Dovermann
REFRESH-INTERVAL;VALUE=DURATION:PT1H
X-Robots-Tag:noindex
X-PUBLISHED-TTL:PT1H
BEGIN:VTIMEZONE
TZID:Europe/Berlin
BEGIN:DAYLIGHT
TZOFFSETFROM:+0100
TZOFFSETTO:+0200
TZNAME:CEST
DTSTART:20250330T010000
END:DAYLIGHT
BEGIN:STANDARD
TZOFFSETFROM:+0200
TZOFFSETTO:+0100
TZNAME:CET
DTSTART:20251026T010000
END:STANDARD
BEGIN:DAYLIGHT
TZOFFSETFROM:+0100
TZOFFSETTO:+0200
TZNAME:CEST
DTSTART:20260329T010000
END:DAYLIGHT
BEGIN:STANDARD
TZOFFSETFROM:+0200
TZOFFSETTO:+0100
TZNAME:CET
DTSTART:20261025T010000
END:STANDARD
BEGIN:DAYLIGHT
TZOFFSETFROM:+0100
TZOFFSETTO:+0200
TZNAME:CEST
DTSTART:20270328T010000
END:DAYLIGHT
BEGIN:STANDARD
TZOFFSETFROM:+0200
TZOFFSETTO:+0100
TZNAME:CET
DTSTART:20271031T010000
END:STANDARD
END:VTIMEZONE
BEGIN:VEVENT
DTSTART;TZID=Europe/Berlin:20260302T183000
DTEND;TZID=Europe/Berlin:20260302T200000
DTSTAMP:20260423T175654
CREATED:20241126T165806Z
LAST-MODIFIED:20260224T180911Z
UID:1765-1772476200-1772481600@www.fahrschule-dovermann.de
SUMMARY:Zusatzstoff C (Thema 3)
DESCRIPTION:Zusatzstoff C \n\nThema 3\n\n18:30 – 20:00 Uhr\nAachen Wurmbenden
URL:https://www.fahrschule-dovermann.de/theorieplan/zusatzstoff-c-thema-3-2/
LOCATION:Filiale Wurmbenden\, Wurmbenden 13-15\, Aachen\, NRW\, 52070\, Deutschland
CATEGORIES:Theorieunterricht LKW / BUS,Zusatzstoff C (Thema 3) - Kraftstrang
END:VEVENT
BEGIN:VEVENT
DTSTART;TZID=Europe/Berlin:20260304T183000
DTEND;TZID=Europe/Berlin:20260304T200000
DTSTAMP:20260423T175654
CREATED:20241211T165502Z
LAST-MODIFIED:20260224T170636Z
UID:1781-1772649000-1772654400@www.fahrschule-dovermann.de
SUMMARY:Grundstoff (Thema 1)
DESCRIPTION:Grundstoff Thema 1\nKohlscheid\n18:30 – 20:00 Uhr
URL:https://www.fahrschule-dovermann.de/theorieplan/grundstoff-thema-1-6/
LOCATION:Filiale Kohlscheid\, Weberstraße 4\, Herzogenrath\, NRW\, 52134\, Deutschland
CATEGORIES:Grundstoff,Grundstoff (Thema 1) - Persönliche Voraussetzung
END:VEVENT
BEGIN:VEVENT
DTSTART;TZID=Europe/Berlin:20260309T183000
DTEND;TZID=Europe/Berlin:20260309T200000
DTSTAMP:20260423T175654
CREATED:20241126T165610Z
LAST-MODIFIED:20260224T171029Z
UID:1760-1773081000-1773086400@www.fahrschule-dovermann.de
SUMMARY:Grundstoff (Thema 2)
DESCRIPTION:Grundstoff Thema 2\nKohlscheid\n18:30 – 20:00 Uhr
URL:https://www.fahrschule-dovermann.de/theorieplan/grundstoff-thema-2-6/
LOCATION:Filiale Kohlscheid\, Weberstraße 4\, Herzogenrath\, NRW\, 52134\, Deutschland
CATEGORIES:Grundstoff,Grundstoff (Thema 2) - Risikofaktor Mensch
END:VEVENT
BEGIN:VEVENT
DTSTART;TZID=Europe/Berlin:20260309T183000
DTEND;TZID=Europe/Berlin:20260309T200000
DTSTAMP:20260423T175654
CREATED:20241211T165412Z
LAST-MODIFIED:20260224T171049Z
UID:1779-1773081000-1773086400@www.fahrschule-dovermann.de
SUMMARY:Grundstoff (Thema 3)
DESCRIPTION:Grundstoff Thema 3\nTheaterstraße\n18:30 – 20:00 Uhr
URL:https://www.fahrschule-dovermann.de/theorieplan/grundstoff-thema-3-6/
LOCATION:Filiale Theaterstraße\, Theaterstraße 77\, Aachen\, NRW\, 52062\, Germany
CATEGORIES:Grundstoff,Grundstoff (Thema 3) - Rechtliche Rahmenbedingungen
END:VEVENT
BEGIN:VEVENT
DTSTART;TZID=Europe/Berlin:20260310T183000
DTEND;TZID=Europe/Berlin:20260310T200000
DTSTAMP:20260423T175654
CREATED:20241211T172034Z
LAST-MODIFIED:20260224T171109Z
UID:1811-1773167400-1773172800@www.fahrschule-dovermann.de
SUMMARY:Grundstoff (Thema 10)
DESCRIPTION:Grundstoff Thema 10\nWurmbenden\n18:30 – 20:00 Uhr
URL:https://www.fahrschule-dovermann.de/theorieplan/grundstoff-thema-10-7/
LOCATION:Filiale Wurmbenden\, Wurmbenden 13-15\, Aachen\, NRW\, 52070\, Deutschland
CATEGORIES:Grundstoff,Grundstoff (Thema 10)
END:VEVENT
BEGIN:VEVENT
DTSTART;TZID=Europe/Berlin:20260316T183000
DTEND;TZID=Europe/Berlin:20260316T200000
DTSTAMP:20260423T175654
CREATED:20240924T112209Z
LAST-MODIFIED:20260224T172202Z
UID:1509-1773685800-1773691200@www.fahrschule-dovermann.de
SUMMARY:Grundstoff (Thema 4)
DESCRIPTION:Grundstoff Thema 4\nKohlscheid\n18:30 – 20:00 Uhr
URL:https://www.fahrschule-dovermann.de/theorieplan/grundstoff-thema-4/
LOCATION:Filiale Kohlscheid\, Weberstraße 4\, Herzogenrath\, NRW\, 52134\, Deutschland
CATEGORIES:Grundstoff,Grundstoff (Thema 4) - Straßenverkehrssystem und seine Nutzung
END:VEVENT
BEGIN:VEVENT
DTSTART;TZID=Europe/Berlin:20260317T183000
DTEND;TZID=Europe/Berlin:20260317T200000
DTSTAMP:20260423T175654
CREATED:20241126T164305Z
LAST-MODIFIED:20260224T172228Z
UID:1735-1773772200-1773777600@www.fahrschule-dovermann.de
SUMMARY:Grundstoff (Thema 12)
DESCRIPTION:Grundstoff Thema 12\nWurmbenden\n18:30 – 20:00 Uhr
URL:https://www.fahrschule-dovermann.de/theorieplan/grundstoff-thema-12-6/
LOCATION:Filiale Wurmbenden\, Wurmbenden 13-15\, Aachen\, NRW\, 52070\, Deutschland
CATEGORIES:Grundstoff,Grundstoff (Thema 12)
END:VEVENT
BEGIN:VEVENT
DTSTART;TZID=Europe/Berlin:20260319T183000
DTEND;TZID=Europe/Berlin:20260319T200000
DTSTAMP:20260423T175654
CREATED:20241126T164908Z
LAST-MODIFIED:20260224T173022Z
UID:1747-1773945000-1773950400@www.fahrschule-dovermann.de
SUMMARY:Grundstoff (Thema 1)
DESCRIPTION:Grundstoff Thema 1\nWurmbenden\n18:30 – 20:00 Uhr
URL:https://www.fahrschule-dovermann.de/theorieplan/grundstoff-thema-1-5/
LOCATION:Filiale Wurmbenden\, Wurmbenden 13-15\, Aachen\, NRW\, 52070\, Deutschland
CATEGORIES:Grundstoff,Grundstoff (Thema 1) - Persönliche Voraussetzung
END:VEVENT
BEGIN:VEVENT
DTSTART;TZID=Europe/Berlin:20260323T183000
DTEND;TZID=Europe/Berlin:20260323T200000
DTSTAMP:20260423T175654
CREATED:20241211T174349Z
LAST-MODIFIED:20260224T181016Z
UID:1836-1774290600-1774296000@www.fahrschule-dovermann.de
SUMMARY:Zusatzstoff C (Thema 9)
DESCRIPTION:Zusatzstoff C \n\nThema 9\n\n18:30 – 20:00 Uhr\nAachen Wurmbenden
URL:https://www.fahrschule-dovermann.de/theorieplan/zusatzstoff-c-thema-9-3/
LOCATION:Filiale Wurmbenden\, Wurmbenden 13-15\, Aachen\, NRW\, 52070\, Deutschland
CATEGORIES:Theorieunterricht LKW / BUS,Zusatzstoff C (Thema 9)
END:VEVENT
BEGIN:VEVENT
DTSTART;TZID=Europe/Berlin:20260326T183000
DTEND;TZID=Europe/Berlin:20260326T200000
DTSTAMP:20260423T175654
CREATED:20250122T154914Z
LAST-MODIFIED:20260224T175738Z
UID:1895-1774549800-1774555200@www.fahrschule-dovermann.de
SUMMARY:Grundstoff (Thema 1)
DESCRIPTION:Grundstoff Thema 1\nPontwall\n18:30 – 20:00 Uhr
URL:https://www.fahrschule-dovermann.de/theorieplan/grundstoff-thema-1-7/
LOCATION:Filiale Aachen Pontwall\, Pontwall 2\, Aachen\, NRW\, 52062\, Deutschland
CATEGORIES:Grundstoff,Grundstoff (Thema 1) - Persönliche Voraussetzung
END:VEVENT
BEGIN:VEVENT
DTSTART;TZID=Europe/Berlin:20260326T183000
DTEND;TZID=Europe/Berlin:20260326T200000
DTSTAMP:20260423T175654
CREATED:20260129T105648Z
LAST-MODIFIED:20260224T175722Z
UID:2538-1774549800-1774555200@www.fahrschule-dovermann.de
SUMMARY:Grundstoff (Thema 3)
DESCRIPTION:Grundstoff Thema 3\nWurmbenden\n18:30 – 20:00 Uhr
URL:https://www.fahrschule-dovermann.de/theorieplan/grundstoff-thema-3-7/
LOCATION:Filiale Wurmbenden\, Wurmbenden 13-15\, Aachen\, NRW\, 52070\, Deutschland
CATEGORIES:Grundstoff,Grundstoff (Thema 3) - Rechtliche Rahmenbedingungen
END:VEVENT
BEGIN:VEVENT
DTSTART;TZID=Europe/Berlin:20260330T183000
DTEND;TZID=Europe/Berlin:20260330T200000
DTSTAMP:20260423T175654
CREATED:20240924T105452Z
LAST-MODIFIED:20260224T175812Z
UID:1483-1774895400-1774900800@www.fahrschule-dovermann.de
SUMMARY:Grundstoff (Thema 8)
DESCRIPTION:Grundstoff Thema 8\nKohlscheid\n18:30 – 20:00 Uhr
URL:https://www.fahrschule-dovermann.de/theorieplan/grundstoff-thema-8-2-3/
LOCATION:Filiale Kohlscheid\, Weberstraße 4\, Herzogenrath\, NRW\, 52134\, Deutschland
CATEGORIES:Grundstoff,Grundstoff (Thema 8) - Geschwindigkeit, Abstand und umweltschonende Fahrweise
END:VEVENT
BEGIN:VEVENT
DTSTART;TZID=Europe/Berlin:20260330T183000
DTEND;TZID=Europe/Berlin:20260330T200000
DTSTAMP:20260423T175654
CREATED:20241211T170836Z
LAST-MODIFIED:20260224T175832Z
UID:1799-1774895400-1774900800@www.fahrschule-dovermann.de
SUMMARY:Grundstoff (Thema 9)
DESCRIPTION:Grundstoff Thema 9\nTheaterstraße\n18:30 – 20:00 Uhr
URL:https://www.fahrschule-dovermann.de/theorieplan/grundstoff-thema-9-6/
LOCATION:Filiale Theaterstraße\, Theaterstraße 77\, Aachen\, NRW\, 52062\, Germany
CATEGORIES:Grundstoff,Grundstoff (Thema 9) - Verkehrsverhalten bei Fahrmanövern, Verkehrsbeobachtung
END:VEVENT
BEGIN:VEVENT
DTSTART;TZID=Europe/Berlin:20260331T183000
DTEND;TZID=Europe/Berlin:20260331T200000
DTSTAMP:20260423T175654
CREATED:20241126T160610Z
LAST-MODIFIED:20260224T175946Z
UID:1682-1774981800-1774987200@www.fahrschule-dovermann.de
SUMMARY:Grundstoff (Thema 2)
DESCRIPTION:Grundstoff Thema 2\nPontwall\n18:30 – 20:00 Uhr
URL:https://www.fahrschule-dovermann.de/theorieplan/grundstoff-thema-2-4/
LOCATION:Filiale Aachen Pontwall\, Pontwall 2\, Aachen\, NRW\, 52062\, Deutschland
CATEGORIES:Grundstoff,Grundstoff (Thema 2) - Risikofaktor Mensch
END:VEVENT
END:VCALENDAR