BEGIN:VCALENDAR
VERSION:2.0
PRODID:-//Fahrschule Dovermann - ECPv6.15.20//NONSGML v1.0//EN
CALSCALE:GREGORIAN
METHOD:PUBLISH
X-WR-CALNAME:Fahrschule Dovermann
X-ORIGINAL-URL:https://www.fahrschule-dovermann.de
X-WR-CALDESC:Veranstaltungen für Fahrschule Dovermann
REFRESH-INTERVAL;VALUE=DURATION:PT1H
X-Robots-Tag:noindex
X-PUBLISHED-TTL:PT1H
BEGIN:VTIMEZONE
TZID:Europe/Berlin
BEGIN:DAYLIGHT
TZOFFSETFROM:+0100
TZOFFSETTO:+0200
TZNAME:CEST
DTSTART:20250330T010000
END:DAYLIGHT
BEGIN:STANDARD
TZOFFSETFROM:+0200
TZOFFSETTO:+0100
TZNAME:CET
DTSTART:20251026T010000
END:STANDARD
BEGIN:DAYLIGHT
TZOFFSETFROM:+0100
TZOFFSETTO:+0200
TZNAME:CEST
DTSTART:20260329T010000
END:DAYLIGHT
BEGIN:STANDARD
TZOFFSETFROM:+0200
TZOFFSETTO:+0100
TZNAME:CET
DTSTART:20261025T010000
END:STANDARD
BEGIN:DAYLIGHT
TZOFFSETFROM:+0100
TZOFFSETTO:+0200
TZNAME:CEST
DTSTART:20270328T010000
END:DAYLIGHT
BEGIN:STANDARD
TZOFFSETFROM:+0200
TZOFFSETTO:+0100
TZNAME:CET
DTSTART:20271031T010000
END:STANDARD
END:VTIMEZONE
BEGIN:VEVENT
DTSTART;TZID=Europe/Berlin:20260112T183000
DTEND;TZID=Europe/Berlin:20260112T200000
DTSTAMP:20260424T025248
CREATED:20241105T121318Z
LAST-MODIFIED:20251215T154514Z
UID:1648-1768242600-1768248000@www.fahrschule-dovermann.de
SUMMARY:Zusatzstoff C (Thema 5)
DESCRIPTION:Zusatzstoff C \n\nThema 5\n\n18:30 – 20:00 Uhr\nAachen Wurmbenden
URL:https://www.fahrschule-dovermann.de/theorieplan/zusatzstoff-c-thema-5/
LOCATION:Filiale Wurmbenden\, Wurmbenden 13-15\, Aachen\, NRW\, 52070\, Deutschland
CATEGORIES:Theorieunterricht LKW / BUS,Zusatzstoff C (Thema 5) - LKW Bremsen
END:VEVENT
BEGIN:VEVENT
DTSTART;TZID=Europe/Berlin:20260112T200000
DTEND;TZID=Europe/Berlin:20260112T213000
DTSTAMP:20260424T025248
CREATED:20241105T121423Z
LAST-MODIFIED:20251215T154524Z
UID:1650-1768248000-1768253400@www.fahrschule-dovermann.de
SUMMARY:Zusatzstoff C (Thema 6)
DESCRIPTION:Zusatzstoff C \n\nThema 6\n\n20:00 – 21:30 Uhr\nAachen Wurmbenden
URL:https://www.fahrschule-dovermann.de/theorieplan/zusatzstoff-c-thema-6/
LOCATION:Filiale Wurmbenden\, Wurmbenden 13-15\, Aachen\, NRW\, 52070\, Deutschland
CATEGORIES:Theorieunterricht LKW / BUS,Zusatzstoff C (Thema 6) - LKW Bremsen und Fahrzeugunteruchungen
END:VEVENT
BEGIN:VEVENT
DTSTART;TZID=Europe/Berlin:20260119T183000
DTEND;TZID=Europe/Berlin:20260119T200000
DTSTAMP:20260424T025248
CREATED:20241105T121537Z
LAST-MODIFIED:20251215T160415Z
UID:1652-1768847400-1768852800@www.fahrschule-dovermann.de
SUMMARY:Zusatzstoff C (Thema 7)
DESCRIPTION:Zusatzstoff C \n\nThema 7\n\n18:30 – 20:00 Uhr\nAachen Wurmbenden
URL:https://www.fahrschule-dovermann.de/theorieplan/zusatzstoff-c-thema-7/
LOCATION:Filiale Wurmbenden\, Wurmbenden 13-15\, Aachen\, NRW\, 52070\, Deutschland
CATEGORIES:Theorieunterricht LKW / BUS,Zusatzstoff C (Thema 7) - Wirkung von Kräften, Kraftschluss, Reibung, Rollwiederstand
END:VEVENT
BEGIN:VEVENT
DTSTART;TZID=Europe/Berlin:20260121T183000
DTEND;TZID=Europe/Berlin:20260121T200000
DTSTAMP:20260424T025248
CREATED:20241028T154811Z
LAST-MODIFIED:20251215T151725Z
UID:1598-1769020200-1769025600@www.fahrschule-dovermann.de
SUMMARY:Grundstoff (Thema 3)
DESCRIPTION:Grundstoff Thema 3\nTheaterstraße\n18:30 – 20:00 Uhr
URL:https://www.fahrschule-dovermann.de/theorieplan/grundstoff-thema-3-2/
LOCATION:Filiale Theaterstraße\, Theaterstraße 77\, Aachen\, NRW\, 52062\, Germany
CATEGORIES:Grundstoff,Grundstoff (Thema 3) - Rechtliche Rahmenbedingungen
END:VEVENT
END:VCALENDAR