BEGIN:VCALENDAR
VERSION:2.0
PRODID:-//Fahrschule Dovermann - ECPv6.15.20//NONSGML v1.0//EN
CALSCALE:GREGORIAN
METHOD:PUBLISH
X-WR-CALNAME:Fahrschule Dovermann
X-ORIGINAL-URL:https://www.fahrschule-dovermann.de
X-WR-CALDESC:Veranstaltungen für Fahrschule Dovermann
REFRESH-INTERVAL;VALUE=DURATION:PT1H
X-Robots-Tag:noindex
X-PUBLISHED-TTL:PT1H
BEGIN:VTIMEZONE
TZID:Europe/Berlin
BEGIN:DAYLIGHT
TZOFFSETFROM:+0100
TZOFFSETTO:+0200
TZNAME:CEST
DTSTART:20250330T010000
END:DAYLIGHT
BEGIN:STANDARD
TZOFFSETFROM:+0200
TZOFFSETTO:+0100
TZNAME:CET
DTSTART:20251026T010000
END:STANDARD
BEGIN:DAYLIGHT
TZOFFSETFROM:+0100
TZOFFSETTO:+0200
TZNAME:CEST
DTSTART:20260329T010000
END:DAYLIGHT
BEGIN:STANDARD
TZOFFSETFROM:+0200
TZOFFSETTO:+0100
TZNAME:CET
DTSTART:20261025T010000
END:STANDARD
BEGIN:DAYLIGHT
TZOFFSETFROM:+0100
TZOFFSETTO:+0200
TZNAME:CEST
DTSTART:20270328T010000
END:DAYLIGHT
BEGIN:STANDARD
TZOFFSETFROM:+0200
TZOFFSETTO:+0100
TZNAME:CET
DTSTART:20271031T010000
END:STANDARD
END:VTIMEZONE
BEGIN:VEVENT
DTSTART;TZID=Europe/Berlin:20260420T183000
DTEND;TZID=Europe/Berlin:20260420T200000
DTSTAMP:20260420T100450
CREATED:20240924T120449Z
LAST-MODIFIED:20260325T123803Z
UID:1533-1776709800-1776715200@www.fahrschule-dovermann.de
SUMMARY:Grundstoff (Thema 1)
DESCRIPTION:Grundstoff Thema 1\nKohlscheid\n18:30 – 20:00 Uhr
URL:https://www.fahrschule-dovermann.de/theorieplan/grundstoff-thema-1-2/
LOCATION:Filiale Kohlscheid\, Weberstraße 4\, Herzogenrath\, NRW\, 52134\, Deutschland
CATEGORIES:Grundstoff,Grundstoff (Thema 1) - Persönliche Voraussetzung
END:VEVENT
BEGIN:VEVENT
DTSTART;TZID=Europe/Berlin:20260420T183000
DTEND;TZID=Europe/Berlin:20260420T200000
DTSTAMP:20260420T100450
CREATED:20240924T121114Z
LAST-MODIFIED:20260325T123830Z
UID:1545-1776709800-1776715200@www.fahrschule-dovermann.de
SUMMARY:Grundstoff (Thema 2)
DESCRIPTION:Grundstoff Thema 2\nTheaterstraße\n18:30 – 20:00 Uhr
URL:https://www.fahrschule-dovermann.de/theorieplan/grundstoff-thema-2/
LOCATION:Filiale Theaterstraße\, Theaterstraße 77\, Aachen\, NRW\, 52062\, Germany
CATEGORIES:Grundstoff,Grundstoff (Thema 2) - Risikofaktor Mensch
END:VEVENT
BEGIN:VEVENT
DTSTART;TZID=Europe/Berlin:20260420T183000
DTEND;TZID=Europe/Berlin:20260420T200000
DTSTAMP:20260420T100450
CREATED:20240924T121555Z
LAST-MODIFIED:20260325T132823Z
UID:1557-1776709800-1776715200@www.fahrschule-dovermann.de
SUMMARY:Zusatzstoff C (Thema 1)
DESCRIPTION:Zusatzstoff C \n\nThema 1\n\n18:30 – 20:00 Uhr\nAachen Wurmbenden
URL:https://www.fahrschule-dovermann.de/theorieplan/zusatzstoff-c-thema-1-2/
LOCATION:Filiale Wurmbenden\, Wurmbenden 13-15\, Aachen\, NRW\, 52070\, Deutschland
CATEGORIES:Theorieunterricht LKW / BUS,Zusatzstoff C (Thema 1) - Persönliche Voraussetzung und Arbeitsplatz
END:VEVENT
BEGIN:VEVENT
DTSTART;TZID=Europe/Berlin:20260420T200000
DTEND;TZID=Europe/Berlin:20260420T213000
DTSTAMP:20260420T100450
CREATED:20240924T121201Z
LAST-MODIFIED:20260325T132917Z
UID:1547-1776715200-1776720600@www.fahrschule-dovermann.de
SUMMARY:Zusatzstoff C (Thema 2)
DESCRIPTION:Zusatzstoff C Thema 2\nWurmbenden\n20:00 – 21:30 Uhr
URL:https://www.fahrschule-dovermann.de/theorieplan/zusatzstoff-b-thema-2-4/
LOCATION:Filiale Wurmbenden\, Wurmbenden 13-15\, Aachen\, NRW\, 52070\, Deutschland
CATEGORIES:Theorieunterricht LKW / BUS,Zusatzstoff C (Thema 2) - Besondere Vorschriften
END:VEVENT
END:VCALENDAR